BEGIN:VCALENDAR
VERSION:2.0
PRODID:-//Klub Dyrektorów Finansowych &quot;Dialog&quot; - ECPv6.15.20//NONSGML v1.0//EN
CALSCALE:GREGORIAN
METHOD:PUBLISH
X-ORIGINAL-URL:https://kdfdialog.org.pl
X-WR-CALDESC:Wydarzenia dla Klub Dyrektorów Finansowych &quot;Dialog&quot;
REFRESH-INTERVAL;VALUE=DURATION:PT1H
X-Robots-Tag:noindex
X-PUBLISHED-TTL:PT1H
BEGIN:VTIMEZONE
TZID:UTC
BEGIN:STANDARD
TZOFFSETFROM:+0000
TZOFFSETTO:+0000
TZNAME:UTC
DTSTART:20250101T000000
END:STANDARD
END:VTIMEZONE
BEGIN:VEVENT
DTSTART;TZID=UTC:20260331T090000
DTEND;TZID=UTC:20260331T110000
DTSTAMP:20260417T213308
CREATED:20260302T115128Z
LAST-MODIFIED:20260311T222057Z
UID:3495-1774947600-1774954800@kdfdialog.org.pl
SUMMARY:FP&A jako narzędzie porządkowania planowania i współpracy z biznesem
DESCRIPTION:Tym razem skupimy się na praktycznej roli FP&A w codziennym funkcjonowaniu CFO oraz komunikacji z biznesem. \n\nTematy\, które poruszymy:\n• rola CFO w złożonej\, rosnącej organizacji\,\n• planowanie sprzedaży i marży w jednym modelu oraz odpowiedzialność menedżerów\,\n• znaczenie FP&A i raportowania w relacjach z inwestorem i w procesach właścicielskich. \nGościem specjalnym będzie \nMariusz Sumińskidyrektor zarządzający FlexiSolutionsMariusz Sumiński to ekspert z ponad 20-letnim doświadczeniem w systemach controllingowych\, który od lat wspiera CFO w budowaniu nowoczesnych i skalowalnych procesów finansowych. Jako współzałożyciel i Dyrektor Zarządzający FlexiSolutions odpowiada za strategiczny rozwój firmy oraz realizację projektów w obszarze budżetowania\, raportowania i controllingu zarządczego. Jest liderem Regionalnej Grupy Roboczej ICV Warszawa\, aktywnie promuje najlepsze praktyki controllingu i regularnie występuje na konferencjach branżowych. Łączy wiedzę technologiczną z finansową\, dzięki czemu potrafi przełożyć złożone wyzwania systemowe na konkretne rozwiązania wspierające decyzje zarządów.\n  \nSpotkanie będzie okazją do pogłębionej dyskusji o praktykach\, które realnie poprawiają procesy planistyczne i komunikację między finansami a biznesem.
URL:https://kdfdialog.org.pl/event/fpa-jako-narzedzie-porzadkowania-planowania-i-wspolpracy-z-biznesem/
LOCATION:Rzeszów\, Rzeszów\, Poland
CATEGORIES:Śniadania biznesowe
ATTACH;FMTTYPE=image/png:https://kdfdialog.org.pl/wp-content/uploads/2026/03/20260331_rzeszow_tec.png
ORGANIZER;CN="Klub Dyrektor%C3%B3w Finansowych 'Dialog'":MAILTO:kontakt@kdfdialog.org.pl
END:VEVENT
BEGIN:VEVENT
DTSTART;TZID=UTC:20260331T170000
DTEND;TZID=UTC:20260331T190000
DTSTAMP:20260417T213308
CREATED:20260313T173806Z
LAST-MODIFIED:20260313T174159Z
UID:3521-1774976400-1774983600@kdfdialog.org.pl
SUMMARY:Outsourcing – kiedy to jest dobry\, a kiedy zły pomysł?
DESCRIPTION:Outsourcing od lat jest jednym z kluczowych narzędzi poprawy efektywności\, ale jednocześnie jednym z najtrudniejszych decyzji strategicznych CFO. Nie każdy proces nadaje się do przekazania na zewnątrz\, nie każdy zespół jest na to gotowy\, a korzyści deklarowane w ofertach firm outsourcingowych często różnią się od rzeczywistości. \n\nPodczas spotkania w Krakowie omówimy najważniejsze elementy\, które pozwalają CFO podjąć właściwą decyzję o outsourcingu – i przygotować organizację tak\, aby uniknąć kosztownych błędów. \nPoruszymy m.in.:\n\nWybór procesu do outsourcingu – co warto oddać na zewnątrz\, a co lepiej pozostawić w firmie?\nSpodziewane korzyści – kiedy outsourcing faktycznie obniża koszty i ryzyka\, a kiedy dzieje się odwrotnie?\nDojrzałość procesów – jak przygotować proces do przekazania\, jaki poziom standaryzacji i jakości jest konieczny?\nRynek usług outsourcingowych w Polsce – możliwości dla dużych firm\, wąskie gardła i realne ograniczenia podaży.\nKluczowe kryteria wyboru partnera outsourcingowego – na co CFO musi patrzeć w pierwszej kolejności?\n\nW dyskusji punktem odniesienia będą słowa naszego kolegi\, Mariusza Grajdy\, CFO w Estee Lauder CEN Region: \n \nPrzyjąłem zasadę\, że zespół wewnątrz firmy powinien zajmować się tylko tymi sprawami\, które mają bezpośredni wpływ na biznes… Zadania rutynowe\, wystandaryzowane i powtarzalne wykonuje dla nas firma zewnętrzna… Do procesów wspierających wracam tylko w przypadku zjawisk nietypowych lub problemów. \nMariusz Grajda\, CFO w Estee Lauder CEN Region\n\n  \n  \nSwoją wiedzą podzielą się specjaliści z AIDER Polska (dawniej MDDP Outsourcing)\, od wielu lat pracujący z największymi firmami w zakresie outsourcingu procesów finansowych i operacyjnych. \n  \n 
URL:https://kdfdialog.org.pl/event/outsourcing-kiedy-to-jest-dobry-a-kiedy-zly-pomysl/
LOCATION:Kraków\, Kraków\, Poland
CATEGORIES:Śniadania biznesowe
ATTACH;FMTTYPE=image/png:https://kdfdialog.org.pl/wp-content/uploads/2026/03/20260331_krakow_tec.png
ORGANIZER;CN="Klub Dyrektor%C3%B3w Finansowych 'Dialog'":MAILTO:kontakt@kdfdialog.org.pl
END:VEVENT
END:VCALENDAR